BEGIN:VCALENDAR
VERSION:2.0
PRODID:-//ArRazzaq Islamic Center - ECPv6.0.12//NONSGML v1.0//EN
CALSCALE:GREGORIAN
METHOD:PUBLISH
X-ORIGINAL-URL:https://arrazzaqislamiccenter.org
X-WR-CALDESC:Events for ArRazzaq Islamic Center
REFRESH-INTERVAL;VALUE=DURATION:PT1H
X-Robots-Tag:noindex
X-PUBLISHED-TTL:PT1H
BEGIN:VTIMEZONE
TZID:America/New_York
BEGIN:DAYLIGHT
TZOFFSETFROM:-0500
TZOFFSETTO:-0400
TZNAME:EDT
DTSTART:20240310T070000
END:DAYLIGHT
BEGIN:STANDARD
TZOFFSETFROM:-0400
TZOFFSETTO:-0500
TZNAME:EST
DTSTART:20241103T060000
END:STANDARD
END:VTIMEZONE
BEGIN:VEVENT
DTSTART;TZID=America/New_York:20240410T080000
DTEND;TZID=America/New_York:20240410T110000
DTSTAMP:20260421T151746
CREATED:20240320T165610Z
LAST-MODIFIED:20240408T190502Z
UID:13167-1712736000-1712746800@arrazzaqislamiccenter.org
SUMMARY:Eid Prayer
DESCRIPTION:Eid ul Fitr Prayer\nWednesday\, April 10\, 2024\nLyon Park Community Center\n1309 Halley Street \nDurham NC \nTakbeerat starts at 8:00 AM \nPrayer 8:30 AM followed by Brunch. \nBring Your Prayer Rugs \nDon’t forget to pay your Zakatul Fitr before Prayer Commences \n$15.00 per person \n 
URL:https://arrazzaqislamiccenter.org/event/eid-ul-fitr/
ATTACH;FMTTYPE=image/webp:https://arrazzaqislamiccenter.org/wp-content/uploads/2024/03/Eid2024.webp
END:VEVENT
END:VCALENDAR